BEGIN:VCALENDAR
VERSION:2.0
PRODID:-//Welcome to Brampton Soccer Club - ECPv6.15.20//NONSGML v1.0//EN
CALSCALE:GREGORIAN
METHOD:PUBLISH
X-ORIGINAL-URL:https://bramptonsc.com
X-WR-CALDESC:Events for Welcome to Brampton Soccer Club
REFRESH-INTERVAL;VALUE=DURATION:PT1H
X-Robots-Tag:noindex
X-PUBLISHED-TTL:PT1H
BEGIN:VTIMEZONE
TZID:UTC
BEGIN:STANDARD
TZOFFSETFROM:+0000
TZOFFSETTO:+0000
TZNAME:UTC
DTSTART:20210101T000000
END:STANDARD
END:VTIMEZONE
BEGIN:VEVENT
DTSTART;TZID=UTC:20220320T173000
DTEND;TZID=UTC:20220320T190000
DTSTAMP:20260423T212618
CREATED:20220308T161136Z
LAST-MODIFIED:20220308T161136Z
UID:9471-1647797400-1647802800@bramptonsc.com
SUMMARY:League 1 Men's Reserve Trials!
DESCRIPTION:Brampton SC is hosting League 1 Men's Reserve Trials!Sunday March 13th\, 5:30 - 7pm - Save Max Dome &Sunday March 20th\, 5:30 - 7pm - Save Max DomePlayers born in 2004\, 2003\, 2002 are welcome and must register in advance.Interested players must register by completing this GOOGLE FORMOnce completed\, the Club will confirm trial acceptance and e-mail details to the players.
URL:https://bramptonsc.com/club-calendar/league-1-mens-reserve-trials-2/
LOCATION:SaveMax Dome\, 1495 Sandalwood Pkwy E\, Brampton\, Ontario\, 1495 Sandalwood L6R 0K2\, Canada
END:VEVENT
END:VCALENDAR