BEGIN:VCALENDAR
VERSION:2.0
PRODID:-//Welcome to Brampton Soccer Club - ECPv6.15.20//NONSGML v1.0//EN
CALSCALE:GREGORIAN
METHOD:PUBLISH
X-ORIGINAL-URL:https://bramptonsc.com
X-WR-CALDESC:Events for Welcome to Brampton Soccer Club
REFRESH-INTERVAL;VALUE=DURATION:PT1H
X-Robots-Tag:noindex
X-PUBLISHED-TTL:PT1H
BEGIN:VTIMEZONE
TZID:UTC
BEGIN:STANDARD
TZOFFSETFROM:+0000
TZOFFSETTO:+0000
TZNAME:UTC
DTSTART:20180101T000000
END:STANDARD
END:VTIMEZONE
BEGIN:VEVENT
DTSTART;TZID=UTC:20190927T183000
DTEND;TZID=UTC:20190927T200000
DTSTAMP:20260422T210843
CREATED:20190925T050717Z
LAST-MODIFIED:20190925T050717Z
UID:5874-1569609000-1569614400@bramptonsc.com
SUMMARY:OPDL Trials - Phase 2
DESCRIPTION:BSC Announces Phase 2 – 2019 OPDL Trials for U13\, U14 & U15 Female & Male Teams
URL:https://bramptonsc.com/club-calendar/opdl-trials-phase-2/
LOCATION:Creditview & Sandalwood Turf Field 6\, 10530 Creditview Rd\, Brampton\, Ontario\, L7A 3G6\, Canada
END:VEVENT
BEGIN:VEVENT
DTSTART;TZID=UTC:20190927T183000
DTEND;TZID=UTC:20190927T200000
DTSTAMP:20260422T210843
CREATED:20200127T181257Z
LAST-MODIFIED:20200127T181257Z
UID:6017-1569609000-1569614400@bramptonsc.com
SUMMARY:OPDL Trials - Phase 2
DESCRIPTION:BSC Announces U13 Girls (2007) Tryouts!\nSaturday\, February 8th\, 2020\n1:30-3:00 p.m.\nSaturday\, February 15th\, 2020\n1:30-3:00 p.m.\nSaturday\, February 22nd\, 2020\n1:30-3:00 p.m.\nAll tryouts are being held at the Brampton Soccer Centre - Field C
URL:https://bramptonsc.com/club-calendar/opdl-trials_2020_u13f_1/
LOCATION:Creditview & Sandalwood Turf Field 6\, 10530 Creditview Rd\, Brampton\, Ontario\, L7A 3G6\, Canada
END:VEVENT
END:VCALENDAR