BEGIN:VCALENDAR
VERSION:2.0
PRODID:-//Welcome to Brampton Soccer Club - ECPv6.15.20//NONSGML v1.0//EN
CALSCALE:GREGORIAN
METHOD:PUBLISH
X-ORIGINAL-URL:https://bramptonsc.com
X-WR-CALDESC:Events for Welcome to Brampton Soccer Club
REFRESH-INTERVAL;VALUE=DURATION:PT1H
X-Robots-Tag:noindex
X-PUBLISHED-TTL:PT1H
BEGIN:VTIMEZONE
TZID:UTC
BEGIN:STANDARD
TZOFFSETFROM:+0000
TZOFFSETTO:+0000
TZNAME:UTC
DTSTART:20180101T000000
END:STANDARD
END:VTIMEZONE
BEGIN:VEVENT
DTSTART;TZID=UTC:20190903T183000
DTEND;TZID=UTC:20190903T213000
DTSTAMP:20260422T224412
CREATED:20190826T213140Z
LAST-MODIFIED:20190827T163206Z
UID:5791-1567535400-1567546200@bramptonsc.com
SUMMARY:2019 OPDL Trials - Phase 1 - Girls & Boys
DESCRIPTION:BSC Announces Phase 1 – 2019 OPDL Trials for U13\, U14 & U15 Female & Male Teams! \nClick here to visit our OPDL Page for trials\, coaches and more information.
URL:https://bramptonsc.com/club-calendar/2019opdltrials_1a/
LOCATION:creditview/sandalwood 5\, 10530 Creditview Rd\, Brampton\, Ontario\, L7A 3G6\, Canada
END:VEVENT
END:VCALENDAR