BEGIN:VCALENDAR
VERSION:2.0
PRODID:-//Welcome to Brampton Soccer Club - ECPv6.15.20//NONSGML v1.0//EN
CALSCALE:GREGORIAN
METHOD:PUBLISH
X-WR-CALNAME:Welcome to Brampton Soccer Club
X-ORIGINAL-URL:https://bramptonsc.com
X-WR-CALDESC:Events for Welcome to Brampton Soccer Club
REFRESH-INTERVAL;VALUE=DURATION:PT1H
X-Robots-Tag:noindex
X-PUBLISHED-TTL:PT1H
BEGIN:VTIMEZONE
TZID:UTC
BEGIN:STANDARD
TZOFFSETFROM:+0000
TZOFFSETTO:+0000
TZNAME:UTC
DTSTART:20170101T000000
END:STANDARD
END:VTIMEZONE
BEGIN:VEVENT
DTSTART;TZID=UTC:20180526T111500
DTEND;TZID=UTC:20180526T130000
DTSTAMP:20260423T183424
CREATED:20180524T151930Z
LAST-MODIFIED:20180524T151930Z
UID:4190-1527333300-1527339600@bramptonsc.com
SUMMARY:OPDL - BYSC Vs North Toronto
DESCRIPTION:Join us and cheer for our U13 Boys OPDL team on their third game of the outdoor season!
URL:https://bramptonsc.com/club-calendar/opdl-home-game-2/
LOCATION:U of T - Scarborough 2\, 130 Old Kingston Road\, Scarborough\, Ontario\, M1E 3J5\, Canada
END:VEVENT
END:VCALENDAR